BEGIN:VCALENDAR
VERSION:2.0
PRODID:-//Squarespace Inc/Squarespace 6//v6//EN
BEGIN:VEVENT
UID:5b9b48c52b6a28b429754808@squarespace.com
DTSTAMP:20181204T030753Z
DTSTART:20181219T050000Z
DTEND:20181219T060000Z
SUMMARY:Event 3
END:VEVENT
END:VCALENDAR
