BEGIN:VCALENDAR
VERSION:2.0
PRODID:-//Squarespace Inc/Squarespace 6//v6//EN
BEGIN:VEVENT
UID:5b9b1ea84d7a9ccfbede50c8@squarespace.com
DTSTAMP:20181204T030806Z
DTSTART:20181213T020000Z
DTEND:20181213T030000Z
SUMMARY:September Meeting
GEO:40.582524;-73.838457
LOCATION:Wharf Restaurant Bar & Grill\, 1 Teramby Road\, Nelson Bay\, NSW\, 
 2315\, Australia
END:VEVENT
END:VCALENDAR
