BEGIN:VCALENDAR
VERSION:2.0
PRODID:-//Squarespace Inc/Squarespace 6//v6//EN
BEGIN:VEVENT
UID:5d8d8e3b59c029599d108d44@squarespace.com
DTSTAMP:20190927T043652Z
DTSTART:20191030T060000Z
DTEND:20191030T080000Z
SUMMARY:October Networking Event at Murray's Brewery
GEO:-32.769142;152.039233
LOCATION:Murray's Craft Brewing Co\, Nelson Bay Road\, Bobs Farm\, NSW\, 23
 16\, Australia
END:VEVENT
END:VCALENDAR
