BEGIN:VCALENDAR
VERSION:2.0
PRODID:-//Squarespace Inc/Squarespace 6//v6//EN
BEGIN:VEVENT
UID:5d9ea6791c9b7c72d7be5521@squarespace.com
DTSTAMP:20191010T225932Z
DTSTART:20191129T060000Z
DTEND:20191129T100000Z
SUMMARY:Christmas Celebration at Saltwater Restaurant
GEO:-32.742685;152.171078
LOCATION:Saltwater Restaurant\, Level 1/3 Marine Dr\, Fingal Bay
END:VEVENT
END:VCALENDAR
