BEGIN:VCALENDAR
VERSION:2.0
PRODID:-//Squarespace Inc/Squarespace 6//v6//EN
BEGIN:VEVENT
UID:5c85cf87ee6eb059ac4c3ed1@squarespace.com
DTSTAMP:20190311T031438Z
DTSTART:20190417T213000Z
DTEND:20190417T233000Z
SUMMARY:Business Showcase
GEO:-32.733804;152.108822
LOCATION:Spark Co Work\, 2/270 Sandy Point Road\, Salamander Bay\, NSW\, 23
 17\, Australia
END:VEVENT
END:VCALENDAR
