BEGIN:VCALENDAR
VERSION:2.0
PRODID:-//Squarespace Inc/Squarespace 6//v6//EN
BEGIN:VEVENT
UID:5c85c507652dea6737e8a5e6@squarespace.com
DTSTAMP:20190311T030057Z
DTSTART:20190327T213000Z
DTEND:20190327T233000Z
SUMMARY:Lauren from OOPAT Health
GEO:-32.717868;152.104693
LOCATION:OOPAT\, 26 Corlette Point Rd\, NSW\, Australia
END:VEVENT
END:VCALENDAR
