BEGIN:VCALENDAR
VERSION:2.0
PRODID:-//Squarespace Inc/Squarespace 6//v6//EN
BEGIN:VEVENT
UID:5c85d3a853450a49a409d21a@squarespace.com
DTSTAMP:20190528T102108Z
DTSTART:20190529T210000Z
DTEND:20190529T230000Z
SUMMARY:Social Media for small business
GEO:-32.74279;151.873208
LOCATION:Medowie Business Centre Diner\, 58 Ferodale Road\, Medowie\, NSW\, 
 2318\, Australia
END:VEVENT
END:VCALENDAR
