BEGIN:VCALENDAR
VERSION:2.0
PRODID:-//Squarespace Inc/Squarespace 6//v6//EN
BEGIN:VEVENT
UID:5d18509c84a155000111a072@squarespace.com
DTSTAMP:20190630T064552Z
DTSTART:20190731T070000Z
DTEND:20190731T090000Z
SUMMARY:Christmas In July Business Speed Dating
GEO:-32.719761;152.144833
LOCATION:Mavricks\, 8 Teramby Road\, Nelson Bay\, NSW\, 2315\, Australia
END:VEVENT
END:VCALENDAR
