BEGIN:VCALENDAR
VERSION:2.0
PRODID:-//Squarespace Inc/Squarespace 6//v6//EN
BEGIN:VEVENT
UID:5d18537b7ada480001a5ac44@squarespace.com
DTSTAMP:20190630T062120Z
DTSTART:20190828T070000Z
DTEND:20190828T090000Z
SUMMARY:Your Spring Shake Up - with Kerri Rodley from Wellbeing Workshop's
GEO:-32.747669;152.072995
LOCATION:ZONE ACTIVE\, 6/86 Port Stephens Drive\,\, Taylors Beach\, Austral
 ia
END:VEVENT
END:VCALENDAR
