BEGIN:VCALENDAR
VERSION:2.0
PRODID:-//Squarespace Inc/Squarespace 6//v6//EN
BEGIN:VEVENT
UID:5d184f1504ddd80001ce99f9@squarespace.com
DTSTAMP:20190630T063405Z
DTSTART:20190920T090000Z
DTEND:20190920T133000Z
SUMMARY:Glitz &amp\; Glamour 10 Year Anniversary Ball
GEO:-32.72062;152.175542
LOCATION:SHOAL BAY COUNTRY CLUB\, 35-45 Shoal Bay Road\, Shoal Bay\, NSW\, 
 2315\, Australia
END:VEVENT
END:VCALENDAR
