BEGIN:VCALENDAR
VERSION:2.0
PRODID:-//Squarespace Inc/Squarespace 6//v6//EN
BEGIN:VEVENT
UID:5de60b65483f966c5c90bc74@squarespace.com
DTSTAMP:20191222T014509Z
DTSTART:20200129T060000Z
DTEND:20200129T080000Z
SUMMARY:Annual General Meeting
GEO:-32.782241;152.077205
LOCATION:Crest Birubi Beach\, 73 James Paterson Street\, Anna Bay\, NSW\, 2
 316\, Australia
END:VEVENT
END:VCALENDAR
