BEGIN:VCALENDAR
VERSION:2.0
PRODID:-//Squarespace Inc/Squarespace 6//v6//EN
BEGIN:VEVENT
UID:5f75764305a7793966c37319@squarespace.com
DTSTAMP:20201013T072447Z
DTSTART:20201028T060000Z
DTEND:20201028T080000Z
SUMMARY:October Networking Event at Murray's Brewery
GEO:-32.769142;152.039233
LOCATION:Murrays Brewery\, Nelson Bay Road\, Bobs Farm\, NSW\, 2316\, Austr
 alia
END:VEVENT
END:VCALENDAR
