BEGIN:VCALENDAR
VERSION:2.0
PRODID:-//Squarespace Inc/Squarespace 6//v6//EN
BEGIN:VEVENT
UID:5fa33ee1be0f0f312b0eadcb@squarespace.com
DTSTAMP:20201118T102343Z
DTSTART:20201125T060000Z
DTEND:20201125T080000Z
SUMMARY:November Networking at Port Stephens Koala Sanctuary
GEO:-32.76465;152.11567
LOCATION:Port Stephens Koala Sanctuary\, 562 Gan Gan Road\, One Mile\, NSW\
 , 2316\, Australia
END:VEVENT
END:VCALENDAR
