BEGIN:VCALENDAR
VERSION:2.0
PRODID:-//Squarespace Inc/Squarespace 6//v6//EN
BEGIN:VEVENT
UID:6023346c00b80334d42e6fcf@squarespace.com
DTSTAMP:20210210T013631Z
DTSTART:20210224T060000Z
DTEND:20210224T080000Z
SUMMARY:February Networking Event
GEO:-32.770235;152.066452
LOCATION:Irukandji Shark & Ray Centre\, 2 Jessie Road\, Anna Bay\, NSW\, 23
 16\, Australia
END:VEVENT
END:VCALENDAR
