BEGIN:VCALENDAR
VERSION:2.0
PRODID:-//Squarespace Inc/Squarespace 6//v6//EN
BEGIN:VEVENT
UID:5fb4bd85df7477297d43f7ed@squarespace.com
DTSTAMP:20210210T011836Z
DTSTART:20201206T054500Z
DTEND:20201206T080000Z
SUMMARY:Members Only Christmas Cruise
GEO:-32.719657;152.143317
LOCATION:Imagine Cruises\, Teramby Rd\, Nelson Bay NSW 2315
END:VEVENT
END:VCALENDAR
