BEGIN:VCALENDAR
VERSION:2.0
PRODID:-//Squarespace Inc/Squarespace 6//v6//EN
BEGIN:VEVENT
UID:5e30fe3a70fdcf14ede077b0@squarespace.com
DTSTAMP:20200206T102731Z
DTSTART:20200226T060000Z
DTEND:20200226T080000Z
SUMMARY:February Networking Event
GEO:-32.751779;152.072134
LOCATION:PT Fitness\, 2/23 Shearwater Drive\, Taylors Beach\, NSW\, 2316\, 
 Australia
END:VEVENT
END:VCALENDAR
