BEGIN:VCALENDAR
VERSION:2.0
PRODID:-//Squarespace Inc/Squarespace 6//v6//EN
BEGIN:VEVENT
UID:5e576cae05c7f9197eb1b8aa@squarespace.com
DTSTAMP:20200421T055045Z
DTSTART:20200429T073000Z
DTEND:20200429T083000Z
SUMMARY:5 easy peasy SEO (Search Engine Optimisation) tips to grow your bus
 iness online
GEO:-32.751111;152.067778
LOCATION:Your house via Zoom!
END:VEVENT
END:VCALENDAR
