BEGIN:VCALENDAR
VERSION:2.0
PRODID:-//Squarespace Inc/Squarespace 6//v6//EN
BEGIN:VEVENT
UID:5ebc9f269c9d551b8a9d4bbc@squarespace.com
DTSTAMP:20200514T013827Z
DTSTART:20200527T073000Z
DTEND:20200527T083000Z
SUMMARY:How to Avoid Costly Online Advertising Mistakes - Zoom Event
GEO:36.143843;-95.922757
LOCATION:Your house!
END:VEVENT
END:VCALENDAR
