BEGIN:VCALENDAR
VERSION:2.0
PRODID:-//Squarespace Inc/Squarespace 6//v6//EN
BEGIN:VEVENT
UID:5eddba78dd727a3b4837d246@squarespace.com
DTSTAMP:20200608T041732Z
DTSTART:20200624T070000Z
DTEND:20200624T090000Z
SUMMARY:The 3Cs of Communication:   Confidence\, Certainty and Clarity 
GEO:-32.769142;152.039233
LOCATION:Murray's Craft Brewing Co\, Nelson Bay Road\, Bobs Farm\, NSW\, 23
 16\, Australia
END:VEVENT
END:VCALENDAR
