BEGIN:VCALENDAR
VERSION:2.0
PRODID:-//Squarespace Inc/Squarespace 6//v6//EN
BEGIN:VEVENT
UID:5effd5f0782f302e6be62915@squarespace.com
DTSTAMP:20200722T031731Z
DTSTART:20200729T070000Z
DTEND:20200729T090000Z
SUMMARY:July Networking Event - Coming Out of Covid
GEO:-32.721587;152.14333
LOCATION:Evviva Cafe and Bar\, 14A Stockton St\, Nelson Bay\, Australia
END:VEVENT
END:VCALENDAR
