BEGIN:VCALENDAR
VERSION:2.0
PRODID:-//Squarespace Inc/Squarespace 6//v6//EN
BEGIN:VEVENT
UID:5f3f0d54da0650060902939b@squarespace.com
DTSTAMP:20200821T000047Z
DTSTART:20200826T070000Z
DTEND:20200826T083000Z
SUMMARY:August Zoom Event: TAPPING INTO THE POWER (AND PROFITS) OF PODCASTI
 NG FOR YOUR BUSINESS
GEO:40.720756;-74.000761
LOCATION:Zoom at your place!
END:VEVENT
END:VCALENDAR
