BEGIN:VCALENDAR
VERSION:2.0
PRODID:-//Squarespace Inc/Squarespace 6//v6//EN
BEGIN:VEVENT
UID:5f4ef37af4f8f06edd854f60@squarespace.com
DTSTAMP:20200922T045322Z
DTSTART:20200930T070000Z
DTEND:20200930T090000Z
SUMMARY:Speed networking &amp\; fundraiser at Broughtons at the Bay
END:VEVENT
END:VCALENDAR
