BEGIN:VCALENDAR
VERSION:2.0
PRODID:-//Squarespace Inc/Squarespace 6//v6//EN
BEGIN:VEVENT
UID:5fdadc5c97e50c3a7e299886@squarespace.com
DTSTAMP:20210111T035848Z
DTSTART:20210127T060000Z
DTEND:20210127T080000Z
SUMMARY:Annual General Meeting
END:VEVENT
END:VCALENDAR
