BEGIN:VCALENDAR
VERSION:2.0
PRODID:-//Squarespace Inc/Squarespace 6//v6//EN
BEGIN:VEVENT
UID:5b9b1dc3562fa77c725ad71c@squarespace.com
DTSTAMP:20181204T030818Z
DTSTART:20181214T200000Z
DTEND:20181214T210000Z
SUMMARY:September Meeting
GEO:-32.719936;152.14354
LOCATION:warf bar\, 1 Teramby Road\, Nelson Bay\, NSW\, 2315\, Australia
END:VEVENT
END:VCALENDAR
